BEGIN:VCALENDAR
VERSION:2.0
PRODID:www.codnes.sk
BEGIN:VEVENT
UID:69e8c66d256d6
DTSTART:20260424T190000Z
SEQUENCE:0
TRANSP:OPAQUE
LOCATION:Martin
SUMMARY:ABBA SHOW
CLASS:PUBLIC
DESCRIPTION:Najväčšie hity legendárnej skupiny ABBA v podaní jednej z 
 najlepší revivalovej kapely v Európe! Show
DTSTAMP:20260422T130029Z
END:VEVENT
END:VCALENDAR