BEGIN:VCALENDAR
VERSION:2.0
PRODID:www.codnes.sk
BEGIN:VEVENT
UID:69e7489fd4cf8
DTSTART:20260305T180000Z
SEQUENCE:0
TRANSP:OPAQUE
DTEND:20260305T220000Z
LOCATION:Liptovský Mikuláš
SUMMARY:Beseda o ženskom zdraví z pohľadu psychosomatickej medicíny
CLASS:PUBLIC
DESCRIPTION:Pozývame vás na jedinečné stretnutie venované ženskému z
 draviu\, telu a duši.Na besedu\, ktorá prináša
DTSTAMP:20260421T095127Z
END:VEVENT
END:VCALENDAR