BEGIN:VCALENDAR
VERSION:2.0
PRODID:www.codnes.sk
BEGIN:VEVENT
UID:69e8c80824f49
DTSTART:20260422T190000Z
SEQUENCE:0
TRANSP:OPAQUE
LOCATION:Liptovský Mikuláš
SUMMARY:Celtic Legends
CLASS:PUBLIC
DESCRIPTION:Po úspešnom turné v roku 2025 sa na Slovensko vracajú Celti
 c Legends so svojou energickou šou plnou
DTSTAMP:20260422T130720Z
END:VEVENT
END:VCALENDAR