BEGIN:VCALENDAR
VERSION:2.0
PRODID:www.codnes.sk
BEGIN:VEVENT
UID:69e6c4148f777
DTSTART:20230319T160000Z
SEQUENCE:0
TRANSP:OPAQUE
DTEND:20230319T200000Z
LOCATION:Martin
SUMMARY:Červená čiapočka alebo o Hlúpom vlkovi
CLASS:PUBLIC
DESCRIPTION:Šibalská červená čiapočka\, hlúpy vlk a zaľúbený poľ
 ovník rozohrávajú expresívnym herectvom\, prekvapi
DTSTAMP:20260421T002556Z
END:VEVENT
END:VCALENDAR