BEGIN:VCALENDAR
VERSION:2.0
PRODID:www.codnes.sk
BEGIN:VEVENT
UID:69e88f939d100
DTSTART:20231130T200000Z
SEQUENCE:0
TRANSP:OPAQUE
LOCATION:Žilina
SUMMARY:Cigánski Diabli - Jubileum koncert
CLASS:PUBLIC
DESCRIPTION:VIP stôl Nitra - 6 miest\nVIP stôl Šamorín - 8 mest
DTSTAMP:20260422T090627Z
END:VEVENT
END:VCALENDAR