BEGIN:VCALENDAR
VERSION:2.0
PRODID:www.codnes.sk
BEGIN:VEVENT
UID:69ec9f5df3757
DTSTART:20230923T210000Z
SEQUENCE:0
TRANSP:OPAQUE
LOCATION:Žilina
SUMMARY:Coco Chanel
CLASS:PUBLIC
DESCRIPTION:Autorský projekt Daniely Brezániovej a Barbory Nitschovej o
  Coco Chanel v piatich farebných odtieňoc
DTSTAMP:20260425T110253Z
END:VEVENT
END:VCALENDAR