BEGIN:VCALENDAR
VERSION:2.0
PRODID:www.codnes.sk
BEGIN:VEVENT
UID:69ecc942cfb77
DTSTART:20260427T173000Z
SEQUENCE:0
TRANSP:OPAQUE
DTEND:20260427T213000Z
LOCATION:Žilina
SUMMARY:Dobrá partia - večer spoločenských hier
CLASS:PUBLIC
DESCRIPTION:O.Z. Dobrá partia vás pozýva každý druhý pondelok do stan
 ičného café-baru na večer stolových hier\, č
DTSTAMP:20260425T140138Z
END:VEVENT
END:VCALENDAR