BEGIN:VCALENDAR
VERSION:2.0
PRODID:www.codnes.sk
BEGIN:VEVENT
UID:69ecc76f96046
DTSTART:20260511T173000Z
SEQUENCE:0
TRANSP:OPAQUE
DTEND:20260511T213000Z
LOCATION:Žilina
SUMMARY:Dobrá partia - večer spoločenských hier
CLASS:PUBLIC
DESCRIPTION:O.Z. Dobrá partia vás pozýva do staničného café-baru na v
 ečer stolových hier\, či už ste skúsený hráč
DTSTAMP:20260425T135351Z
END:VEVENT
END:VCALENDAR