BEGIN:VCALENDAR
VERSION:2.0
PRODID:www.codnes.sk
BEGIN:VEVENT
UID:69ea8780bb194
DTSTART:20260518T190000Z
SEQUENCE:0
TRANSP:OPAQUE
DTEND:20260518T210000Z
LOCATION:Žilina
SUMMARY:DOBRE BUDE – Talkshow s Rasťom Ilievom\, ŽILINA
CLASS:PUBLIC
DESCRIPTION:DOBRE BUDE\, Talkshow s Rasťom Ilievom vyráža na druhé turn
 é!&nbsp\;Priprav sa na večer plný humoru\, o
DTSTAMP:20260423T205632Z
END:VEVENT
END:VCALENDAR