BEGIN:VCALENDAR
VERSION:2.0
PRODID:www.codnes.sk
BEGIN:VEVENT
UID:69e743c95dca5
DTSTART:20260307T200000Z
SEQUENCE:0
TRANSP:OPAQUE
DTEND:20260307T235900Z
LOCATION:Žilina
SUMMARY:INSPERIENCE
CLASS:PUBLIC
DESCRIPTION:Zapíšte si dátum 7.3.2026!Transcendance sa vracia s novou ak
 ciou INSPERIENCE\, ktorá bude tentokrát č
DTSTAMP:20260421T093049Z
END:VEVENT
END:VCALENDAR