BEGIN:VCALENDAR
VERSION:2.0
PRODID:www.codnes.sk
BEGIN:VEVENT
UID:69ecc9e1a535e
DTSTART:20260429T100000Z
SEQUENCE:0
TRANSP:OPAQUE
DTEND:20260429T140000Z
LOCATION:Žilina
SUMMARY:Jarné knižné turné Združenia vydavateľstiev a kníhkupectiev 
 Slovenska
CLASS:PUBLIC
DESCRIPTION:Vydavatelia sa opäť vydávajú na cesty!&nbsp\;Myšlienka kni
 žných turné vznikla na pôde Združenia vydav
DTSTAMP:20260425T140417Z
END:VEVENT
END:VCALENDAR