BEGIN:VCALENDAR
VERSION:2.0
PRODID:www.codnes.sk
BEGIN:VEVENT
UID:69ecc761357d3
DTSTART:20260519T180000Z
SEQUENCE:0
TRANSP:OPAQUE
DTEND:20260519T220000Z
LOCATION:Žilina
SUMMARY:Katarína Nádaská: Dejiny čarodejníctva
CLASS:PUBLIC
DESCRIPTION:Kto bola čarodejnica a aké správy o nich nám zanechala hist
 ória. Čo je podstatou mágie a aké druhy m
DTSTAMP:20260425T135337Z
END:VEVENT
END:VCALENDAR