BEGIN:VCALENDAR
VERSION:2.0
PRODID:www.codnes.sk
BEGIN:VEVENT
UID:69eccac3aa20e
DTSTART:20260506T190000Z
SEQUENCE:0
TRANSP:OPAQUE
DTEND:20260506T235900Z
LOCATION:Rajec
SUMMARY:Katarína Nádaská: Ľúbostná mágia | Rajec
CLASS:PUBLIC
DESCRIPTION:Vysvetlíme si\, ako sa pripravovali nápoje a jedlá lásky&nb
 sp\;\, aký bol rozdiel medzi ľúbostnou a ero
DTSTAMP:20260425T140803Z
END:VEVENT
END:VCALENDAR