BEGIN:VCALENDAR
VERSION:2.0
PRODID:www.codnes.sk
BEGIN:VEVENT
UID:69ea860e9c3e0
DTSTART:20260518T180000Z
SEQUENCE:0
TRANSP:OPAQUE
DTEND:20260518T190000Z
LOCATION:Žilina
SUMMARY:Keep sMajling
CLASS:PUBLIC
DESCRIPTION:V máji Čitáreň navštívi dramaturg\, autor a pedagóg Dani
 el Majling\, ktorý bude rozprávať nielen o lit
DTSTAMP:20260423T205022Z
END:VEVENT
END:VCALENDAR