BEGIN:VCALENDAR
VERSION:2.0
PRODID:www.codnes.sk
BEGIN:VEVENT
UID:69e88f937d7d3
DTSTART:20260310T180000Z
SEQUENCE:0
TRANSP:OPAQUE
DTEND:20260310T220000Z
LOCATION:Žilina
SUMMARY:Kino: Christy (LUX Film Days - výber najlepších európskych film
 ov)
CLASS:PUBLIC
DESCRIPTION:Sedemnásťročného Christyho vyhodili z jeho pestúnskej rodi
 ny na predmestí. Je tak nútený nasťahovať
DTSTAMP:20260422T090627Z
END:VEVENT
END:VCALENDAR