BEGIN:VCALENDAR
VERSION:2.0
PRODID:www.codnes.sk
BEGIN:VEVENT
UID:69e89238c4b79
DTSTART:20260311T200000Z
SEQUENCE:0
TRANSP:OPAQUE
DTEND:20260311T235900Z
LOCATION:Žilina
SUMMARY:Kino: Citová hodnota (LUX Film Days - výber najlepších európsk
 ych filmov)
CLASS:PUBLIC
DESCRIPTION:Sestry Nora a Agnes sa znova stretávajú so svojím odcudzený
 m otcom\, charizmatickým Gustavom\, kedysi
DTSTAMP:20260422T091744Z
END:VEVENT
END:VCALENDAR