BEGIN:VCALENDAR
VERSION:2.0
PRODID:www.codnes.sk
BEGIN:VEVENT
UID:69ea9a2b49450
DTSTART:20230423T160000Z
SEQUENCE:0
TRANSP:OPAQUE
DTEND:20230423T200000Z
LOCATION:Bratislava
SUMMARY:Kurátorský sprievod: Pozri\, Prešporok! Od grafickej veduty k f
 otografickým pohľadom
CLASS:PUBLIC
DESCRIPTION:Kurátorka Lucia Almášiová priblíži novootvorenú výstavu
  Pozri\, Prešporok! Od grafickej veduty k&nbsp
DTSTAMP:20260423T221611Z
END:VEVENT
END:VCALENDAR