BEGIN:VCALENDAR
VERSION:2.0
PRODID:www.codnes.sk
BEGIN:VEVENT
UID:69ecc87a61e90
DTSTART:20260427T170000Z
SEQUENCE:0
TRANSP:OPAQUE
DTEND:20260427T210000Z
LOCATION:Martin
SUMMARY:Kurz odpaľovaného cesta s Julkou
CLASS:PUBLIC
DESCRIPTION:Naša Julka Vás pozýva na kurz odpaľovaného cesta\, kde si 
 spolu pripravíte dvjfarebné cohux\, obľúbené
DTSTAMP:20260425T135818Z
END:VEVENT
END:VCALENDAR