BEGIN:VCALENDAR
VERSION:2.0
PRODID:www.codnes.sk
BEGIN:VEVENT
UID:69e6630f3d525
DTSTART:20240818T110000Z
SEQUENCE:0
TRANSP:OPAQUE
LOCATION:Bratislava
SUMMARY:LOVESTREAM Festival 2024 - Parking
CLASS:PUBLIC
DESCRIPTION:LOVESTREAM FESTIVAL 16-18.8.2024\nStaré letisko Vajnory 831 0
 7\, Bratislava - MAPA\nLOVESTREAM má aj te
DTSTAMP:20260420T173159Z
END:VEVENT
END:VCALENDAR