BEGIN:VCALENDAR
VERSION:2.0
PRODID:www.codnes.sk
BEGIN:VEVENT
UID:69e5e4f86cf05
DTSTART:20250201T180000Z
SEQUENCE:0
TRANSP:OPAQUE
LOCATION:Dolný Kubín
SUMMARY:MHK AUTOCAR Dolný Kubín – MŠK Púchov
CLASS:PUBLIC
DESCRIPTION:PREDAJ MOŽNÝ LEN FORMOU HOMETICKET!\nCena vstupenky:\nTribún
 a = 5€
DTSTAMP:20260420T083400Z
END:VEVENT
END:VCALENDAR