BEGIN:VCALENDAR
VERSION:2.0
PRODID:www.codnes.sk
BEGIN:VEVENT
UID:69ec9bcb9bc2c
DTSTART:20241004T170000Z
SEQUENCE:0
TRANSP:OPAQUE
DTEND:20241004T210000Z
LOCATION:Žilina
SUMMARY:Mikrosvěty / pohybové predstavenie pre deti
CLASS:PUBLIC
DESCRIPTION:Pohybovo - objektová performance pre všetkých od 4 rokov\, k
 torú vám prinášame vďaka spolupráci s med
DTSTAMP:20260425T104739Z
END:VEVENT
END:VCALENDAR