BEGIN:VCALENDAR
VERSION:2.0
PRODID:www.codnes.sk
BEGIN:VEVENT
UID:69ecc7c72fcdc
DTSTART:20261212T160000Z
SEQUENCE:0
TRANSP:OPAQUE
DTEND:20261212T210000Z
LOCATION:Liptovský Mikuláš
SUMMARY:Nevinne o víne Liptovský Mikuláš
CLASS:PUBLIC
DESCRIPTION:Srdečne vás pozývame na najväčšiu putovnú ochutnávku v
 ín na Slovensku\, ktorá sa bude konať v sobotu
DTSTAMP:20260425T135519Z
END:VEVENT
END:VCALENDAR