BEGIN:VCALENDAR
VERSION:2.0
PRODID:www.codnes.sk
BEGIN:VEVENT
UID:69eaa2be44494
DTSTART:20240422T180000Z
SEQUENCE:0
TRANSP:OPAQUE
DTEND:20240422T200000Z
LOCATION:Bratislava
SUMMARY:Online workshop: Ako spraviť svoj deň ekologickejším
CLASS:PUBLIC
DESCRIPTION:Je už mnohoročnou tradíciou pripomínať si 22. apríla Svet
 ový deň zeme a potrebu chrániť a starať sa
DTSTAMP:20260423T225246Z
END:VEVENT
END:VCALENDAR