BEGIN:VCALENDAR
VERSION:2.0
PRODID:www.codnes.sk
BEGIN:VEVENT
UID:69e748aa98f10
DTSTART:20260309T090000Z
SEQUENCE:0
TRANSP:OPAQUE
DTEND:20260311T130000Z
LOCATION:Žilina
SUMMARY:Pre školy - Kvíz Dotkni sa Európy + film Christy (LUX Film Days 
 9. - 11. 3. 2026)
CLASS:PUBLIC
DESCRIPTION:V týždni písomných maturitných skúšok ponúkame v spolup
 ráci s Kanceláriou Európskeho parlamentu na S
DTSTAMP:20260421T095138Z
END:VEVENT
END:VCALENDAR