BEGIN:VCALENDAR
VERSION:2.0
PRODID:www.codnes.sk
BEGIN:VEVENT
UID:69e61cab491b9
DTSTART:20231012T150000Z
SEQUENCE:0
TRANSP:OPAQUE
DTEND:20231013T235900Z
LOCATION:Žilina
SUMMARY:Prednášky a diskusie o ekológii\, ekologickej prevádzke priesto
 rov aj prepojení na umenie a aktivizmus so zaujímavými ľuďmi
CLASS:PUBLIC
DESCRIPTION:Príďte na jednu alebo viac prednášok. Prednášky sú v ang
 ličtine\, lebo budeme mať v publiku hostí z c
DTSTAMP:20260420T123139Z
END:VEVENT
END:VCALENDAR