BEGIN:VCALENDAR
VERSION:2.0
PRODID:www.codnes.sk
BEGIN:VEVENT
UID:69e74866d51ba
DTSTART:20260306T181500Z
SEQUENCE:0
TRANSP:OPAQUE
DTEND:20260306T221500Z
LOCATION:Žilina
SUMMARY:Prológ. The Island of Misfit Toys
CLASS:PUBLIC
DTSTAMP:20260421T095030Z
END:VEVENT
END:VCALENDAR