BEGIN:VCALENDAR
VERSION:2.0
PRODID:www.codnes.sk
BEGIN:VEVENT
UID:69e5a3d2768b2
DTSTART:20260424T230000Z
SEQUENCE:0
TRANSP:OPAQUE
DTEND:20260424T235900Z
LOCATION:Ružomberok
SUMMARY:RADIKAL CHEF FLEXKING AS CLUB
CLASS:PUBLIC
DESCRIPTION:🔥 MUSEL SOM SA VYSPAŤ – AS CLUB RUŽOMBEROK 🔥RADIKAL C
 HEF + MJAY BEATZ prichádzajú do AS Clubu spolu
DTSTAMP:20260420T035602Z
END:VEVENT
END:VCALENDAR