BEGIN:VCALENDAR
VERSION:2.0
PRODID:www.codnes.sk
BEGIN:VEVENT
UID:69e8c92a57771
DTSTART:20260424T200000Z
SEQUENCE:0
TRANSP:OPAQUE
DTEND:20260424T235900Z
LOCATION:Martin
SUMMARY:Richard Autner & Band | Martin
CLASS:PUBLIC
DESCRIPTION:Richard Autner je slovenský skladateľ\, herec a spevák s cha
 rizmatickým\, hlbokým hlasom. Jeho autenti
DTSTAMP:20260422T131210Z
END:VEVENT
END:VCALENDAR