BEGIN:VCALENDAR
VERSION:2.0
PRODID:www.codnes.sk
BEGIN:VEVENT
UID:69e8c6c57c552
DTSTART:20260422T190000Z
SEQUENCE:0
TRANSP:OPAQUE
DTEND:20260422T210000Z
LOCATION:Žilina
SUMMARY:Škorpión
CLASS:PUBLIC
DESCRIPTION:Veľkopodnikateľ Ferenc Király je kráľ\, ktorý sa ešte ne
 chystá zísť z trónu. Vybudoval impérium\, ktor
DTSTAMP:20260422T130157Z
END:VEVENT
END:VCALENDAR