BEGIN:VCALENDAR
VERSION:2.0
PRODID:www.codnes.sk
BEGIN:VEVENT
UID:69e8c8139d445
DTSTART:20260425T140000Z
SEQUENCE:0
TRANSP:OPAQUE
LOCATION:Žilina
SUMMARY:Smejko a Tanculienka - Hviedzdne hity!
CLASS:PUBLIC
DESCRIPTION:Hviezdne hity!\nA je to tu! 10 výnimočných rokov s vami\, ch
 robáčikovia! Oslávte to s nami a s našimi
DTSTAMP:20260422T130731Z
END:VEVENT
END:VCALENDAR