BEGIN:VCALENDAR
VERSION:2.0
PRODID:www.codnes.sk
BEGIN:VEVENT
UID:69ea839642fc5
DTSTART:20240615T160000Z
SEQUENCE:0
TRANSP:OPAQUE
LOCATION:Žilina
SUMMARY:Smejko a Tanculienka - Zaber a makaj!
CLASS:PUBLIC
DESCRIPTION:Neuveríte\, chrobáčikovia!\nSmejko\, Tanculienka aj Huncúli
 k sa v novom predstavení Zaber a makaj! rozh
DTSTAMP:20260423T203950Z
END:VEVENT
END:VCALENDAR