BEGIN:VCALENDAR
VERSION:2.0
PRODID:www.codnes.sk
BEGIN:VEVENT
UID:69e8945bd2c21
DTSTART:20260320T180000Z
SEQUENCE:0
TRANSP:OPAQUE
DTEND:20260320T220000Z
LOCATION:Žilina
SUMMARY:Študentská klubovňa - predpremiéra filmu Možno dopadneme
CLASS:PUBLIC
DESCRIPTION:Anoma – dievča bez tváre\, tvár bez mena. Stratená dôsto
 jnosť a rozbitá identita. Balada o duši národ
DTSTAMP:20260422T092651Z
END:VEVENT
END:VCALENDAR