BEGIN:VCALENDAR
VERSION:2.0
PRODID:www.codnes.sk
BEGIN:VEVENT
UID:69ecc775ec22e
DTSTART:20260517T160000Z
SEQUENCE:0
TRANSP:OPAQUE
DTEND:20260517T180000Z
LOCATION:Žilina
SUMMARY:SWAP RASTLÍN
CLASS:PUBLIC
DESCRIPTION:Milovníci rastlín\, pozor! 🌱&nbsp\;V nedeľu 17.5.2026 o 1
 5:00 si môžeš prísť na Stanicu Záriečie vymen
DTSTAMP:20260425T135357Z
END:VEVENT
END:VCALENDAR