BEGIN:VCALENDAR
VERSION:2.0
PRODID:www.codnes.sk
BEGIN:VEVENT
UID:69ecc8a92d16d
DTSTART:20260510T160000Z
SEQUENCE:0
TRANSP:OPAQUE
DTEND:20260510T200000Z
LOCATION:Žilina
SUMMARY:Talianska vegánska nedeľa
CLASS:PUBLIC
DESCRIPTION:Dolce vita! Jedna z najlepších kuchýň sveta a jej vegánske
  alternatívy bude témou májovej komunitnej
DTSTAMP:20260425T135905Z
END:VEVENT
END:VCALENDAR