BEGIN:VCALENDAR
VERSION:2.0
PRODID:www.codnes.sk
BEGIN:VEVENT
UID:69ecc942b13a1
DTSTART:20260505T180000Z
SEQUENCE:0
TRANSP:OPAQUE
DTEND:20260505T220000Z
LOCATION:Žilina
SUMMARY:Tanec zo strechy sveta - Tibetský exilový súbor TIPA prvýkrát 
 na Slovensku!
CLASS:PUBLIC
DESCRIPTION:Nenechajte si ujsť túto výnimočnú príležitosť - tibetsk
 ý exilový súbor založený Jeho Svätosťou 14. d
DTSTAMP:20260425T140138Z
END:VEVENT
END:VCALENDAR