BEGIN:VCALENDAR
VERSION:2.0
PRODID:www.codnes.sk
BEGIN:VEVENT
UID:69eba9485041d
DTSTART:20240614T190000Z
SEQUENCE:0
TRANSP:OPAQUE
DTEND:20240614T235900Z
LOCATION:Žilina
SUMMARY:Táto izba sa nedá zjesť
CLASS:PUBLIC
DESCRIPTION:Dramatizácia jedinečného debutu Nicol Hochholczerovej o vzť
 ahu\, z ktorého sa tak celkom nedá odísť.M
DTSTAMP:20260424T173256Z
END:VEVENT
END:VCALENDAR