BEGIN:VCALENDAR
VERSION:2.0
PRODID:www.codnes.sk
BEGIN:VEVENT
UID:69e8c66d03498
DTSTART:20260424T190000Z
SEQUENCE:0
TRANSP:OPAQUE
DTEND:20260424T210000Z
LOCATION:Žilina
SUMMARY:Táto izba sa nedá zjesť
CLASS:PUBLIC
DESCRIPTION:Dramatizácia jedinečného debutu Nicol Hochholczerovej o vzť
 ahu\, z ktorého sa tak celkom nedá odísť.M
DTSTAMP:20260422T130029Z
END:VEVENT
END:VCALENDAR