BEGIN:VCALENDAR
VERSION:2.0
PRODID:www.codnes.sk
BEGIN:VEVENT
UID:69ec03d167db3
DTSTART:20230324T140000Z
SEQUENCE:0
TRANSP:OPAQUE
DTEND:20230324T190000Z
LOCATION:Žilina
SUMMARY:Teraz Čosi z Modexu - darujeme látky a nite z bývalej textilnej 
 fabriky
CLASS:PUBLIC
DESCRIPTION:Zachránili sme sklad zo zatvorenej textilnej výroby Modex Ži
 lina a dávame ho k dispozícii všetkým\, k
DTSTAMP:20260424T235913Z
END:VEVENT
END:VCALENDAR