BEGIN:VCALENDAR
VERSION:2.0
PRODID:www.codnes.sk
BEGIN:VEVENT
UID:69ecc76157375
DTSTART:20301227T200000Z
SEQUENCE:0
TRANSP:OPAQUE
LOCATION:Vrútky
SUMMARY:{.: Test :.}
CLASS:PUBLIC
DESCRIPTION:NENAKUPOVAT! SLUZI VYLUCNE NA TESOTVANIE!\n \nlinka na CZ akci
 u \nlinka na PDF\n \n 
DTSTAMP:20260425T135337Z
END:VEVENT
END:VCALENDAR