BEGIN:VCALENDAR
VERSION:2.0
PRODID:www.codnes.sk
BEGIN:VEVENT
UID:69ecc76f97541
DTSTART:20260513T180000Z
SEQUENCE:0
TRANSP:OPAQUE
DTEND:20260513T220000Z
LOCATION:Žilina
SUMMARY:UMELECKÝ PREDNES: Jedným uchom Figuli\, druhým Ferlinghetti
CLASS:PUBLIC
DESCRIPTION:Večer s umeleckým prednesom v podaní študentov Základnej u
 meleckej školy Ferka Špániho.&nbsp\;Pedagog
DTSTAMP:20260425T135351Z
END:VEVENT
END:VCALENDAR