BEGIN:VCALENDAR
VERSION:2.0
PRODID:www.codnes.sk
BEGIN:VEVENT
UID:69e4e3c2d42a7
DTSTART:20260304T180000Z
SEQUENCE:0
TRANSP:OPAQUE
DTEND:20260304T220000Z
LOCATION:Žilina
SUMMARY:Vedatour S6E5 - večer s Vedátorom a vedcami
CLASS:PUBLIC
DESCRIPTION:Prvá populárno-vedecká beseda s poprednými slovenskými ved
 cami a vedkyňami v Žiline. Pripravujeme pr
DTSTAMP:20260419T141634Z
END:VEVENT
END:VCALENDAR