BEGIN:VCALENDAR
VERSION:2.0
PRODID:www.codnes.sk
BEGIN:VEVENT
UID:69e584ba8c0c0
DTSTART:20241221T180000Z
SEQUENCE:0
TRANSP:OPAQUE
DTEND:99991231T005959Z
LOCATION:Turzovka
SUMMARY:Wild Rave Christmas Edition
CLASS:PUBLIC
DESCRIPTION:WILD RAVE Christmas Edition 🎅Pripravte sa! Ako minuly rok\, 
 aj tento december opäť otvárame dvere naš
DTSTAMP:20260420T014322Z
END:VEVENT
END:VCALENDAR