BEGIN:VCALENDAR
VERSION:2.0
PRODID:www.codnes.sk
BEGIN:VEVENT
UID:69ecc86626cd8
DTSTART:20260514T170000Z
SEQUENCE:0
TRANSP:OPAQUE
DTEND:20260514T210000Z
LOCATION:Žilina
SUMMARY:WORKSHOP: Eventová fotografia
CLASS:PUBLIC
DESCRIPTION:Workshop je zameraný na prácu eventového fotografa v kultúr
 nom prostredí – od koncertov\, vernisáží a
DTSTAMP:20260425T135758Z
END:VEVENT
END:VCALENDAR