BEGIN:VCALENDAR
VERSION:2.0
PRODID:www.codnes.sk
BEGIN:VEVENT
UID:69ecc985901ae
DTSTART:20260427T170000Z
SEQUENCE:0
TRANSP:OPAQUE
DTEND:20260427T210000Z
LOCATION:Žilina
SUMMARY:WORKSHOP: Hravé ilustrácie Josefa Čapka / Mini dejiny umenia
CLASS:PUBLIC
DESCRIPTION:Workshop sa inšpiruje tvorbou Josefa Čapka – umelca\, ktor
 ý dokázal cez jednoduchú líniu a skratku za
DTSTAMP:20260425T140245Z
END:VEVENT
END:VCALENDAR