BEGIN:VCALENDAR
VERSION:2.0
PRODID:www.codnes.sk
BEGIN:VEVENT
UID:69e8c813a9886
DTSTART:20260423T190000Z
SEQUENCE:0
TRANSP:OPAQUE
DTEND:20260423T235959Z
LOCATION:Žilina
SUMMARY:Záhada rozumu
CLASS:PUBLIC
DESCRIPTION:Rozum. Nástroj pravdy\, individuálnej múdrosti či svetlo v 
 temnote? Západná civilizácia sa na tieto t
DTSTAMP:20260422T130731Z
END:VEVENT
END:VCALENDAR