BEGIN:VCALENDAR
VERSION:2.0
PRODID:www.codnes.sk
BEGIN:VEVENT
UID:69e732bc86a08
DTSTART:20250611T190000Z
SEQUENCE:0
TRANSP:OPAQUE
DTEND:20250611T235900Z
LOCATION:Žilina
SUMMARY:Záhada rozumu
CLASS:PUBLIC
DESCRIPTION:Autorský projekt Záhada rozumu skúma kritické myslenie a to
 \, ako rozum funguje\, prečo sa v rámci evo
DTSTAMP:20260421T081804Z
END:VEVENT
END:VCALENDAR