BEGIN:VCALENDAR
VERSION:2.0
PRODID:www.codnes.sk
BEGIN:VEVENT
UID:69e4e3ca50f89
DTSTART:20260303T180000Z
SEQUENCE:0
TRANSP:OPAQUE
DTEND:20260303T200000Z
LOCATION:Žilina
SUMMARY:Židia v Trstenskom okrese v rokoch 1938 – 1945
CLASS:PUBLIC
DESCRIPTION:Marcový program otvorí predstavenie novej publikácie Ústavu
  pamäti národa s jej autorom Martinom Gar
DTSTAMP:20260419T141642Z
END:VEVENT
END:VCALENDAR